BEGIN:VCALENDAR
VERSION:2.0
PRODID:-//ExpressionEngine Easy iCalendar plugin//NONSGML v2.0.0//EN
X-WR-TIMEZONE:America/Anchorage
X-WR-CALNAME:Upcoming Auctions
BEGIN:VEVENT
UID:42881
DTSTAMP:20190920T150000
DTSTART:20190920T150000
DTEND:20191002T183000
SUMMARY:Woodshop Online Auction
LOCATION:Anchorage\, AK\, Anchorage\, AK 99502\, US
DESCRIPTION:LOCATION: Near Jewel Lake in Anchorage\, AK- Exact location t
 o be released to winning bidders following sale. PREVIEW: By
  Appointment Only on Wednesday\, October 2nd from 2pm-4:45pm.
  Please call 907-570-7050 or email admin@alaskapremierauctio
 ns.com to make an appointment. ONLINE BIDDING STARTS: Friday
 \, September 20th at 3pm. Auction begins closing Wednesday\, O
 ctober 2nd at 6:30pm. PICK-UP: Times will be from 10am-6pm o
 n Thursday\, October 3rd\, and 10am-6pm on Friday\, October 4th
 . Email: info@alaskapremierauctions.com
URL:https://www.alaskapremierauctions.com/auctions/detail/woodsh
 op-online-auction-bw42881
SEQUENCE:1
END:VEVENT
END:VCALENDAR