BEGIN:VCALENDAR
VERSION:2.0
PRODID:-//ExpressionEngine Easy iCalendar plugin//NONSGML v2.0.1//EN
X-WR-TIMEZONE:America/Anchorage
X-WR-CALNAME:Upcoming Auctions
BEGIN:VEVENT
UID:43997
DTSTAMP:20191022T120000
DTSTART:20191022T120000
DTEND:20191103T173000
SUMMARY:Timeless Online Only Estate Auction
LOCATION:6407 Brayton Drive\, Suite 200A\, Anchorage\, AK 99507\, US
DESCRIPTION:LOCATION: Our warehouse facility at 6407 Brayton Drive\, Anch
 orage AK 99515. PREVIEW: By Appointment Only on Friday\, Nove
 mber 1st from 10am-5pm ONLINE BIDDING STARTS: Tuesday\, Octob
 er 22nd at 12pm. The auction will begin closing on Sunday\, N
 ovember 3rd at 5:30pm. PICK-UP: Times will be from 11am-6pm 
 on Monday November 4th\, and 9am-6pm on Tuesday\, November 5th
 . Email: info@alaskapremierauctions.com
URL:https://www.alaskapremierauctions.com/auctions/detail/timele
 ss-online-only-estate-auction-bw43997
SEQUENCE:1
END:VEVENT
END:VCALENDAR