BEGIN:VCALENDAR
VERSION:2.0
PRODID:-//ExpressionEngine Easy iCalendar plugin//NONSGML v2.0.0//EN
X-WR-TIMEZONE:America/Anchorage
X-WR-CALNAME:Upcoming Auctions
BEGIN:VEVENT
UID:54263
DTSTAMP:20200903T212400
DTSTART:20200903T212400
DTEND:20200915T180000
SUMMARY:September 2020 Discovery Online Auction
LOCATION:1310 W. International Airport Rd.\, Anchorage\, AK 99518\, US
DESCRIPTION:LOCATION: All inventory is located at our warehouse facility
  at 1310 West International Airport Road\, Anchorage AK 99518
 . PREVIEW: There are no in-person previews for general merch
 andise within this sale due to the COVID-19 outbreak prevent
 ative measures. Additional condition reports\, photos\, or vid
 eos are available upon request\, please email Nick@Alaskaprem
 ierauctions.com atleast 48 hours prior to auction close with
  inquiries. PICK-UP: Times will be from 10am-6pm Wednesday\, 
 September 16th and 10am-6pm Thursday\, September 17th. All pi
 ck-ups will be contactless as best as possible and preschedu
 led via a link on winning bidders invoices. Email: Admin@Ala
 skaPremierAuctions.com Phone: 907.570.7050
URL:https://www.alaskapremierauctions.com/auctions/detail/bw5426
 3
SEQUENCE:1
END:VEVENT
END:VCALENDAR