BEGIN:VCALENDAR
VERSION:2.0
PRODID:-//ExpressionEngine Easy iCalendar plugin//NONSGML v2.0.1//EN
X-WR-TIMEZONE:America/Anchorage
X-WR-CALNAME:Upcoming Auctions
BEGIN:VEVENT
UID:52499
DTSTAMP:20200722T212500
DTSTART:20200722T212500
DTEND:20200802T180000
SUMMARY:Nelchina Estate Online Auction
LOCATION:TBD (Downtown Anchorage\, AK)\, Anchorage\, AK 99508\, US
DESCRIPTION:LOCATION: Most lots are located at an off-site estate near M
 erill Field in Downtown Anchorage\, AK. All vehicles and the 
 boat are located at our warehouse facility\, 1310 West Intern
 ational Airport Road\, Anchorage\, AK 99518. The address for t
 he estate will be released to winning bidders only following
  the close of the sale. PREVIEW: There are no previews for g
 eneral merchandise within this sale due to the COVID-19 outb
 reak preventative measures. We are offering previews by appo
 intment only for the vehicles and boat. Please contact us fo
 r additional lot information or condition reports at Admin@A
 laskaPremierAuctions.com PICK-UP: 2 DAYS ONLY: Times will be
  from 10:00am - 6pm on Monday\, August 3rd\, and Tuesday\, Augu
 st 4th. Email: Admin@AlaskaPremierAuctions.com Phone: 907-57
 0-7050
URL:https://www.alaskapremierauctions.com/auctions/detail/bw5249
 9
SEQUENCE:1
END:VEVENT
END:VCALENDAR