BEGIN:VCALENDAR
VERSION:2.0
PRODID:-//ExpressionEngine Easy iCalendar plugin//NONSGML v2.0.1//EN
X-WR-TIMEZONE:America/Anchorage
X-WR-CALNAME:Upcoming Auctions
BEGIN:VEVENT
UID:50189
DTSTAMP:20200511T180000
DTSTART:20200511T180000
DTEND:20200531T180000
SUMMARY:Aphrodite Estate Online Auction
LOCATION:Anchorage\, AK -To Be Released to Winning Bidders-\, Anchorage
 \, AK 99518\, US
DESCRIPTION:LOCATION: All inventory excluding firearms & related lots ar
 e located at an off-site estate\, buyers will be given the ad
 dress following the sale on their invoices. PREVIEW: There a
 re no previews for general merchandise within this sale due 
 to the COVID-19 outbreak preventative measures. Vehicle or f
 irearm previews can be arranged by appointment only\, please 
 call us at 907-570-7050. PICK-UP: Times will be from 10am-6p
 m on Monday\, June 1st & 10am-6pm on Tuesday\, June 2nd. All p
 ick-ups will be contactless as best as possible and presched
 uled via a link on winning bidders invoices. A select few la
 rger items as noted in their descriptions cannot be picked u
 p until Wednesday\, we will contact winners of these lots to 
 make arrangements. Email: Admin@AlaskaPremierAuctions.com Ph
 one: 907.570.7050
URL:https://www.alaskapremierauctions.com/auctions/detail/bw5018
 9
SEQUENCE:1
END:VEVENT
END:VCALENDAR