BEGIN:VCALENDAR
VERSION:2.0
PRODID:-//ExpressionEngine Easy iCalendar plugin//NONSGML v2.0.0//EN
X-WR-TIMEZONE:America/Juneau
X-WR-CALNAME:Upcoming Auctions
BEGIN:VEVENT
UID:160365
DTSTAMP:20260417T170000
DTSTART:20260417T170000
DTEND:20260424T193000
SUMMARY:Alaska EXCEL 2026 Fundraising Auction
LOCATION:{location}
DESCRIPTION:Welcome to the Alaska EXCEL Education for Life fundraising 
 auction presented by Alaska Premier Auctions & Appraisals. 
 Bid Online Now At: https://event.auctria.com/d8f63a20-4a30-4
 a88-a59e-b76f70952cce/a780d600ec2e11e9ae081db830846aa5?2bd25
 550ec3411e98fdeb3a273cf08d8%2FcurrentPage=0
URL:https://www.alaskapremierauctions.com/auctions/detail/bw1603
 65
SEQUENCE:1
END:VEVENT
END:VCALENDAR