BEGIN:VCALENDAR
VERSION:2.0
PRODID:-//ExpressionEngine Easy iCalendar plugin//NONSGML v2.0.0//EN
X-WR-TIMEZONE:America/Juneau
X-WR-CALNAME:Upcoming Auctions
BEGIN:VEVENT
UID:160020
DTSTAMP:20260419T132300
DTSTART:20260419T132300
DTEND:20260425T140000
SUMMARY:Live Auction - Arctic Comic-Con 2026
LOCATION:{location}
DESCRIPTION:Alaska Premier Auctions & Appraisals is pleased to present t
 he 2026 Arctic Comic-Con Live Auction! This LIVE-ONLINE sim
 ulcast sale differs from our typical online auctions. Our li
 ve online sales offer pre-bidding until the auction is sched
 uled to begin closing\, as usual. At this time\, however\, inst
 ead of bidding with a countdown timer as three lots close pe
 r minute\, we will go LIVE via a video and audio broadcast an
 d begin clerking the sale in real-time\, taking competing bid
 s from both our auction platform and in person bids at Arcti
 c Comic-Con. If you are unable to bid in real-time during th
 e online broadcast sale\, PLEASE make sure to leave your max 
 bids ahead of time to avoid missing out on this fantastic ar
 ray of experiences. Highlights of this auction include: Ghos
 t Rider #1 - CGC 7.0 Sub-Mariner #1 - CGC 7.0 Amazing Spider
 -Man #35 - CGC 7.5 And more sought-after graded Marvel comic
 s! We hope you can join us on April 25th for an unforgettabl
 e auction experience. AUCTION CLOSING: This auction opened f
 or bidding on April 19th and will GO LIVE for online and in
  person bidding in real-time on Saturday\, April 25th at 2:00
  pm AKDT. PREVIEW: Limited in-person previews are availabl
 e by appointment only. Additional condition reports in the f
 orm of descriptions\, videos or photos can be provided upon r
 equest\, please email Admin@AlaskaPremierAuctions.com at leas
 t 48 hours prior to the auction close with inquiries.
URL:https://www.alaskapremierauctions.com/auctions/detail/bw1600
 20
SEQUENCE:1
END:VEVENT
END:VCALENDAR