BEGIN:VCALENDAR
VERSION:2.0
PRODID:-//ExpressionEngine Easy iCalendar plugin//NONSGML v2.0.0//EN
X-WR-TIMEZONE:America/Juneau
X-WR-CALNAME:Upcoming Auctions
BEGIN:VEVENT
UID:159334
DTSTAMP:20260421T120000
DTSTART:20260421T120000
DTEND:20260428T180000
SUMMARY:April 2026 Art Auction
LOCATION:325 W. Potter Dr.\, Anchorage\, AK 99518\, US
DESCRIPTION:Welcome to the April 2026 Art Auction hosted by Alaska Prem
 ier Auctions & Appraisals! We are pleased to present our Apr
 il 2026 Fine Art Auction\, featuring over 530 curated lots sp
 anning original works\, limited editions\, and highly collecti
 ble pieces from many of Alaska’s most recognized artists. 
 This sale is notably strong in original artwork\, with pieces
  from Martha Jean Shadrach\, James Belcher\, Don Kolstad\, Evge
 ny Baranov & Lydia Velichko\, George Ahgupuk\, and others\, ran
 ging from large-scale statement works to intimate oils and r
 are materials. Collectors will also find a deep selection of
  prints and editions from Fred Machetanz\, Byron Birdsall\, Jo
 n Van Zyle\, Barbara Lavallee\, Rie Muñoz\, Sydney Laurence\, B
 ev Doolittle\, Robert Bateman\, Csaba Markus\, Agnes Nanogak\, H
 arold “Kusitaan” Campbell\, and more\, spanning Alaska Nat
 ive culture\, wildlife\, and iconic Northern landscapes. With 
 strong representation of both original works and established
  names\, this is a well-rounded sale offering opportunity acr
 oss all levels of collecting. Every lot opens at just $5—d
 on’t miss the chance to name your price on a work that res
 onates\, inspires\, or transforms the space it enters. AUCTION
  CLOSING: This auction opened for bidding on April 21st and 
 will begin to close at 6:00 pm AKST on Tuesday\, April 28th
 . It features a soft close of 3 lots per minute. If a bid i
 s placed in the final minute\, that lot will be extended an 
 additional 60 seconds until no other bids are placed and the
  lot is sold.
URL:https://www.alaskapremierauctions.com/auctions/detail/bw1593
 34
SEQUENCE:1
END:VEVENT
END:VCALENDAR