BEGIN:VCALENDAR
VERSION:2.0
PRODID:-//ExpressionEngine Easy iCalendar plugin//NONSGML v2.0.1//EN
X-WR-TIMEZONE:America/Juneau
X-WR-CALNAME:Upcoming Auctions
BEGIN:VEVENT
UID:159331
DTSTAMP:20260423T120000
DTSTART:20260423T120000
DTEND:20260505T180000
SUMMARY:May 2026 Equipment Auction
LOCATION:325 W. Potter Dr.\, Anchorage\, AK 99518\, US
DESCRIPTION:Alaska Premier Auctions & Appraisals is excited to present o
 ur May 2026 Equipment Auction! This impressive auction featu
 res nearly 700 lots of heavy equipment\, compact machinery\, f
 leet vehicles\, attachments\, structures\, and jobsite inventor
 y. For the first time\, we are pleased to offer a reduced\, ti
 ered buyerâ€™s premium structure for our equipment auctions\,
  calculated on a per-item basis as follows: $0 â€“ $10\,000 â
 †’ 20% $10\,001 â€“ $25\,000 â†’ 15% $25\,001 â€“ $75\,000 â†’ 1
 3% $75\,001 â€“ $150\,000 â†’ 11% $150\,001 â€“ $250\,000 â†’ 9%
  $250\,001+ â†’ 7% We are also excited to announce the contin
 ued expansion of our equipment division into the Matanuska V
 alley\, with the addition of our new 5-acre yard in the Wasil
 la area. Inventory for this auction is located between our A
 nchorage and Wasilla facilities\, with all Wasilla-based lots
  clearly identified within their individual descriptions. He
 adlining the sale is a 2018 Terramac RT14R rotating crawler 
 carrier with approximately 2\,000 hours\, offering a 28\,000 lb
  payload capacity\, 360-degree rotating dump bed\, and low gro
 und pressure design suited for remote access\, soft terrain\, 
 and high-efficiency hauling applications. The auction includ
 es a substantial lineup of municipal and contractor-grade he
 avy equipment\, including multiple Caterpillar 140M motor gra
 ders\, a CAT 14G grader\, and a Champion 726A VHP grader\, alon
 gside a Bomag MPH100S soil stabilizer and a Vactor 2100 seri
 es combination sewer cleaner. Additional support equipment i
 ncludes compaction machinery\, snow removal attachments\, grad
 er wings\, hydraulic brooms\, and related municipal and sitewo
 rk assets. A significant portion of the sale is dedicated to
  new compact equipment\, including multiple mini excavators a
 nd mini skid steer loaders\, supported by a broad range of at
 tachments such as buckets\, grapples\, forks\, rakes\, hydraulic
  implements\, and material handling accessories suited for co
 nstruction\, landscaping\, land management\, and general contra
 cting applications. Fleet vehicles and service trucks are we
 ll represented\, including a 2021 Ram 1500 Big Horn showing a
 pproximately 15\,000 miles\, a GMC Sierra 3500 Duramax dually\,
  multiple Chevrolet 2500 and 3500 series pickups\, service bo
 dy trucks\, box trucks\, and medium-duty platforms\, along with
  additional municipal-retired units offered in a range of co
 nditions. The auction also features a strong selection of st
 ructures and property improvement inventory\, including steel
  carports\, outbuildings\, sheds\, and related site infrastruct
 ure\, along with building materials\, palletized goods\, tools\,
  equipment components\, and general jobsite inventory\, provid
 ing opportunities across all bidding levels. Every lot opens
  at $5 and will be sold to the highest bidder without reserv
 e. AUCTION CLOSING: This auction opened for bidding on April
  23rd and will begin toÂ close at 6:00 pm AKST on Tuesday\, M
 ay 5th.Â It features a soft close of 3 lots per minute. If a
  bid is placed in the final minute\,Â that lot will be extend
 ed an additional 60 seconds until no other bids are placed a
 nd the lot is sold.
URL:https://www.alaskapremierauctions.com/auctions/detail/bw1593
 31
SEQUENCE:1
END:VEVENT
END:VCALENDAR