BEGIN:VCALENDAR
VERSION:2.0
PRODID:-//ExpressionEngine Easy iCalendar plugin//NONSGML v2.0.1//EN
X-WR-TIMEZONE:America/Anchorage
X-WR-CALNAME:Upcoming Auctions
BEGIN:VEVENT
UID:154585
DTSTAMP:20260108T100000
DTSTART:20260108T100000
DTEND:20260118T150000
SUMMARY:Sebring Family Fundraiser Silent Auction
LOCATION:325 W Potter Dr\, Anchorage\, AK 99518\, US
DESCRIPTION:Welcome to the Sebring Family Fundraising auction\, hosted by
  Alaska Premier Auctions and Appraisals.  This fundraiser w
 ill directly support the Sebring family after the loss of Ja
 cob Sebring\; father\, husband\, son\, friend\, and broker for R
 EAL in Alaska.
URL:https://www.alaskapremierauctions.com/auctions/detail/bw1545
 85
SEQUENCE:1
END:VEVENT
END:VCALENDAR