BEGIN:VCALENDAR
VERSION:2.0
PRODID:-//ExpressionEngine Easy iCalendar plugin//NONSGML v2.0.1//EN
X-WR-TIMEZONE:America/Juneau
X-WR-CALNAME:Upcoming Auctions
BEGIN:VEVENT
UID:150560
DTSTAMP:20251022T173000
DTSTART:20251022T173000
DTEND:20251029T173000
SUMMARY:October 2025 U-Haul Storage Auction - Palmer and Anchorage
LOCATION:{location}
DESCRIPTION:Welcome to the October 2025 U-Haul of Alaska Storage Unit A
 uction presented by Alaska Premier Auctions & Appraisals! Fe
 atured in this auction are over 10 storage units in Palmer 
 and Anchorage\, Alaska up for your bidding consideration! Wh
 o knows what kind of treasures await?! This auction opens o
 n Wednesday\, October 22nd and will close on Wednesday\, O
 ctober 29th at 5:30pm AKDT.
URL:https://www.alaskapremierauctions.com/auctions/detail/bw1505
 60
SEQUENCE:1
END:VEVENT
END:VCALENDAR